BEGIN:VCALENDAR
VERSION:2.0
PRODID:-//SVP Wangen-Brüttisellen //NONSGML Events //EN
CALSCALE:GREGORIAN
X-WR-CALNAME:SVP Wangen-Brüttisellen
BEGIN:VEVENT
CREATED:20260420T153634Z
UID:1608
DTEND:20260513T190000
DTSTART:20260513T183000
DTSTAMP:20260421T112315Z
LOCATION:
DESCRIPTION:
SUMMARY:«Stammtisch» SVP Wangen-Brüttisellen im Schürhof
ORGANIZER:
URL;VALUE=URI:https://www.svp-wb.ch/termine/svp-stammtisch/
TRANSP:OPAQUE
END:VEVENT
END:VCALENDAR
