BEGIN:VCALENDAR
VERSION:2.0
PRODID:-//SVP Wangen-Brüttisellen //NONSGML Events //EN
CALSCALE:GREGORIAN
X-WR-CALNAME:SVP Wangen-Brüttisellen
BEGIN:VEVENT
CREATED:20260420T152509Z
UID:1603
DTEND:20260816T000000
DTSTART:20260816T000000
DTSTAMP:20260421T123306Z
LOCATION:
DESCRIPTION:
SUMMARY:Delegiertenversammlung SVP Schweiz im Kanton Zug
ORGANIZER:
URL;VALUE=URI:https://www.svp-wb.ch/termine/delegiertenversammlung-svp-schweiz-im-kanton-zug/
TRANSP:OPAQUE
END:VEVENT
END:VCALENDAR
