BEGIN:VCALENDAR
VERSION:2.0
PRODID:-//SVP Wangen-Brüttisellen //NONSGML Events //EN
CALSCALE:GREGORIAN
X-WR-CALNAME:SVP Wangen-Brüttisellen
BEGIN:VEVENT
CREATED:20260420T151423Z
UID:1586
DTEND:20260922T200000
DTSTART:20260922T193000
DTSTAMP:20260421T122244Z
LOCATION:Gsellhof
DESCRIPTION:
SUMMARY:Gemeindeversammlung
ORGANIZER:
URL;VALUE=URI:https://www.svp-wb.ch/termine/gemeindeversammlung-6/
TRANSP:OPAQUE
END:VEVENT
END:VCALENDAR
