BEGIN:VCALENDAR
VERSION:2.0
PRODID:-//SVP Wangen-Brüttisellen //NONSGML Events //EN
CALSCALE:GREGORIAN
X-WR-CALNAME:SVP Wangen-Brüttisellen
BEGIN:VEVENT
CREATED:20260420T151327Z
UID:1584
DTEND:20260908T000000
DTSTART:20260908T000000
DTSTAMP:20260421T122631Z
LOCATION:
DESCRIPTION:
SUMMARY:Kantonale Delegiertenversammlung Bezirk Hinwil
ORGANIZER:
URL;VALUE=URI:https://www.svp-wb.ch/termine/kantonale-delegiertenversammlung-bezirk-hinwil/
TRANSP:OPAQUE
END:VEVENT
END:VCALENDAR
