BEGIN:VCALENDAR
VERSION:2.0
PRODID:-//SVP Wangen-Brüttisellen //NONSGML Events //EN
CALSCALE:GREGORIAN
X-WR-CALNAME:SVP Wangen-Brüttisellen
BEGIN:VEVENT
CREATED:20260420T151208Z
UID:1582
DTEND:20260709T000000
DTSTART:20260709T000000
DTSTAMP:20260421T121909Z
LOCATION:
DESCRIPTION:
SUMMARY:Kant. Delegiertenversammlung SVP in der Stadt Zürich
ORGANIZER:
URL;VALUE=URI:https://www.svp-wb.ch/termine/kant-delegierten-versammlung-svp-3-2-2/
TRANSP:OPAQUE
END:VEVENT
END:VCALENDAR
