BEGIN:VCALENDAR
VERSION:2.0
PRODID:-//SVP Wangen-Brüttisellen //NONSGML Events //EN
CALSCALE:GREGORIAN
X-WR-CALNAME:SVP Wangen-Brüttisellen
BEGIN:VEVENT
CREATED:20260420T150915Z
UID:1579
DTEND:20260614T000000
DTSTART:20260614T000000
DTSTAMP:20260421T123343Z
LOCATION:Schurterhaus
DESCRIPTION:
SUMMARY:SVP Abstimmungszmorgen
ORGANIZER:
URL;VALUE=URI:https://www.svp-wb.ch/termine/svp-abstimmungszmorgen/
TRANSP:OPAQUE
END:VEVENT
END:VCALENDAR
