BEGIN:VCALENDAR
VERSION:2.0
PRODID:-//SVP Wangen-Brüttisellen //NONSGML Events //EN
CALSCALE:GREGORIAN
X-WR-CALNAME:SVP Wangen-Brüttisellen
BEGIN:VEVENT
CREATED:20260420T150744Z
UID:1577
DTEND:20260609T200000
DTSTART:20260609T193000
DTSTAMP:20260421T123440Z
LOCATION:Gsellhof
DESCRIPTION:
SUMMARY:Gemeindeversammlung
ORGANIZER:
URL;VALUE=URI:https://www.svp-wb.ch/termine/gemeindeversammlung-5-2-2/
TRANSP:OPAQUE
END:VEVENT
END:VCALENDAR
