BEGIN:VCALENDAR
VERSION:2.0
PRODID:-//SVP Wangen-Brüttisellen //NONSGML Events //EN
CALSCALE:GREGORIAN
X-WR-CALNAME:SVP Wangen-Brüttisellen
BEGIN:VEVENT
CREATED:20260420T150313Z
UID:1573
DTEND:20260522T200000
DTSTART:20260522T190000
DTSTAMP:20260421T123221Z
LOCATION:Schurterhaus
DESCRIPTION:
SUMMARY:Generalversammlung SVP Wangen-Brüttisellen
ORGANIZER:
URL;VALUE=URI:https://www.svp-wb.ch/termine/gemeindeversammlung-5-3/
TRANSP:OPAQUE
END:VEVENT
END:VCALENDAR
