BEGIN:VCALENDAR
VERSION:2.0
PRODID:-//SVP Wangen-Brüttisellen //NONSGML Events //EN
CALSCALE:GREGORIAN
X-WR-CALNAME:SVP Wangen-Brüttisellen
BEGIN:VEVENT
CREATED:20260420T145426Z
UID:1567
DTEND:20260509T000000
DTSTART:20260509T000000
DTSTAMP:20260421T112944Z
LOCATION:
DESCRIPTION:
SUMMARY:Kadertagung SVP Kanton Zürich
ORGANIZER:
URL;VALUE=URI:https://www.svp-wb.ch/termine/kadertagung-svp-kanton-zuerich/
TRANSP:OPAQUE
END:VEVENT
END:VCALENDAR
